BEGIN:VCALENDAR
VERSION:2.0
PRODID:-//Tasmanian Hospitality and Tourism Academy - ECPv6.15.16//NONSGML v1.0//EN
CALSCALE:GREGORIAN
METHOD:PUBLISH
X-WR-CALNAME:Tasmanian Hospitality and Tourism Academy
X-ORIGINAL-URL:https://thtacademy.org.au
X-WR-CALDESC:Events for Tasmanian Hospitality and Tourism Academy
REFRESH-INTERVAL;VALUE=DURATION:PT1H
X-Robots-Tag:noindex
X-PUBLISHED-TTL:PT1H
BEGIN:VTIMEZONE
TZID:UTC
BEGIN:STANDARD
TZOFFSETFROM:+0000
TZOFFSETTO:+0000
TZNAME:UTC
DTSTART:20250101T000000
END:STANDARD
END:VTIMEZONE
BEGIN:VEVENT
DTSTART;TZID=UTC:20260522T093000
DTEND;TZID=UTC:20260522T163000
DTSTAMP:20260421T001440
CREATED:20260130T034725Z
LAST-MODIFIED:20260130T034725Z
UID:10000134-1779442200-1779467400@thtacademy.org.au
SUMMARY:My Leadership Journey - Module 1 (My Leadership Ground - Lead Where You Are) - LAUNCESTON - 22 MAY 2026
DESCRIPTION:Course Name\nDate\nLocation\nDuration\nTime\nCourse Fee Per Person (incl. GST)\n\n\n\n\n\n\nMy Leadership Journey - Module 1 (My Leadership Ground - Lead Where You Are) - LAUNCESTON - 22 MAY 2026\n22 May 2026\nVenue TBA\n1 day\n09:30 am - 04:30 pm\n$150.00\nEnrol\n\n\n\n\n\n\nMy Leadership Journey - Module 3 (My Leadership Voice - Say It So It Lands) - HOBART - 05 JUNE 2026\n5 June 2026\nTasmanian Hospitality & Tourism Academy (BATTERY POINT)\n1 day\n09:30 am - 04:30 pm\n$150.00\nEnrol\n\n\n\n\n\n\nMy Leadership Journey - Module 1 (My Leadership Ground - Lead Where You Are) - DEVONPORT - 19 JUNE 2026\n19 June 2026\nVenue TBA\n1 day\n09:30 am - 04:30 pm\n$150.00\nEnrol\n\n\n\n\n\n\nMy Leadership Journey - Module 4 (My Team - Get the Best From Your Team) - HOBART - 07 AUGUST 2026\n7 August 2026\nTasmanian Hospitality & Tourism Academy (BATTERY POINT)\n1 day\n09:30 am - 04:30 pm\n$150.00\nEnrol\n\n\n\n\n\n\nMy Leadership Journey - Module 5 (My Leadership Strength - Lead When It Counts) - HOBART - 11 SEPTEMBER 2026\n11 September 2026\nTasmanian Hospitality & Tourism Academy (BATTERY POINT)\n1 day\n09:30 am - 04:30 pm\n$150.00\nEnrol\n\n\n\n\n\n\nMy Leadership Journey - Module 6 (My Leadership Journey - Showcase Your Leadership) - HOBART - 30 OCTOBER 2026\n30 October 2026\nTasmanian Hospitality & Tourism Academy (BATTERY POINT)\n1 day\n09:30 am - 04:30 pm\n$150.00\nEnrol\n\n\n\n\n\n\nMy Leadership Journey - Module 1 (My Leadership Ground - Lead Where You Are) - HOBART - 13 NOVEMBER 2026\n13 November 2026\nTasmanian Hospitality & Tourism Academy (BATTERY POINT)\n1 day\n09:30 am - 04:30 pm\n$150.00\nEnrol
URL:https://thtacademy.org.au/event/my-leadership-journey-module-1-my-leadership-ground-lead-where-you-are-launceston-22-may-2026/
LOCATION:Venue TBA\, Venue TBA\, Australia
CATEGORIES:Short Course
END:VEVENT
BEGIN:VEVENT
DTSTART;TZID=UTC:20260619T093000
DTEND;TZID=UTC:20260619T163000
DTSTAMP:20260421T001441
CREATED:20260130T034723Z
LAST-MODIFIED:20260130T034723Z
UID:10000133-1781861400-1781886600@thtacademy.org.au
SUMMARY:My Leadership Journey - Module 1 (My Leadership Ground - Lead Where You Are) - DEVONPORT - 19 JUNE 2026
DESCRIPTION:Course Name\nDate\nLocation\nDuration\nTime\nCourse Fee Per Person (incl. GST)\n\n\n\n\n\n\nMy Leadership Journey - Module 1 (My Leadership Ground - Lead Where You Are) - LAUNCESTON - 22 MAY 2026\n22 May 2026\nVenue TBA\n1 day\n09:30 am - 04:30 pm\n$150.00\nEnrol\n\n\n\n\n\n\nMy Leadership Journey - Module 3 (My Leadership Voice - Say It So It Lands) - HOBART - 05 JUNE 2026\n5 June 2026\nTasmanian Hospitality & Tourism Academy (BATTERY POINT)\n1 day\n09:30 am - 04:30 pm\n$150.00\nEnrol\n\n\n\n\n\n\nMy Leadership Journey - Module 1 (My Leadership Ground - Lead Where You Are) - DEVONPORT - 19 JUNE 2026\n19 June 2026\nVenue TBA\n1 day\n09:30 am - 04:30 pm\n$150.00\nEnrol\n\n\n\n\n\n\nMy Leadership Journey - Module 4 (My Team - Get the Best From Your Team) - HOBART - 07 AUGUST 2026\n7 August 2026\nTasmanian Hospitality & Tourism Academy (BATTERY POINT)\n1 day\n09:30 am - 04:30 pm\n$150.00\nEnrol\n\n\n\n\n\n\nMy Leadership Journey - Module 5 (My Leadership Strength - Lead When It Counts) - HOBART - 11 SEPTEMBER 2026\n11 September 2026\nTasmanian Hospitality & Tourism Academy (BATTERY POINT)\n1 day\n09:30 am - 04:30 pm\n$150.00\nEnrol\n\n\n\n\n\n\nMy Leadership Journey - Module 6 (My Leadership Journey - Showcase Your Leadership) - HOBART - 30 OCTOBER 2026\n30 October 2026\nTasmanian Hospitality & Tourism Academy (BATTERY POINT)\n1 day\n09:30 am - 04:30 pm\n$150.00\nEnrol\n\n\n\n\n\n\nMy Leadership Journey - Module 1 (My Leadership Ground - Lead Where You Are) - HOBART - 13 NOVEMBER 2026\n13 November 2026\nTasmanian Hospitality & Tourism Academy (BATTERY POINT)\n1 day\n09:30 am - 04:30 pm\n$150.00\nEnrol
URL:https://thtacademy.org.au/event/my-leadership-journey-module-1-my-leadership-ground-lead-where-you-are-devonport-19-june-2026/
LOCATION:Venue TBA\, Venue TBA\, Australia
CATEGORIES:Short Course
END:VEVENT
END:VCALENDAR