BEGIN:VCALENDAR
VERSION:2.0
PRODID:-//Tasmanian Hospitality and Tourism Academy - ECPv6.15.16//NONSGML v1.0//EN
CALSCALE:GREGORIAN
METHOD:PUBLISH
X-ORIGINAL-URL:https://thtacademy.org.au
X-WR-CALDESC:Events for Tasmanian Hospitality and Tourism Academy
REFRESH-INTERVAL;VALUE=DURATION:PT1H
X-Robots-Tag:noindex
X-PUBLISHED-TTL:PT1H
BEGIN:VTIMEZONE
TZID:UTC
BEGIN:STANDARD
TZOFFSETFROM:+0000
TZOFFSETTO:+0000
TZNAME:UTC
DTSTART:20250101T000000
END:STANDARD
END:VTIMEZONE
BEGIN:VEVENT
DTSTART;TZID=UTC:20260624T150000
DTEND;TZID=UTC:20260624T190000
DTSTAMP:20260420T222141
CREATED:20251219T034708Z
LAST-MODIFIED:20251219T034708Z
UID:10000059-1782313200-1782327600@thtacademy.org.au
SUMMARY:Introduction to Barista Skills - LAUNCESTON (24 JUNE 2026)
DESCRIPTION:Course Name\nDate\nLocation\nDuration\nTime\nCourse Fee Per Person (incl. GST)\n\n\n\n\n\n\nIntroduction to Barista Skills - HOBART (29 APRIL 2026)\n29 April 2026\nVillino Roastery (MOONAH)\n1 day\n09:00 am - 02:00 pm\n$150.00\nEnrol\n\n\n\n\n\n\nIntroduction to Barista Skills - HOBART (13 MAY 2026)\n13 May 2026\nVillino Roastery (MOONAH)\n1 day\n09:00 am - 02:00 pm\n$150.00\nEnrol\n\n\n\n\n\n\nIntroduction to Barista Skills - DEVONPORT (26 MAY 2026)\n26 May 2026\nLeaping Goat Coffee (DEVONPORT)\n1 day\n09:30 am - 02:30 pm\n$150.00\nEnrol\n\n\n\n\n\n\nIntroduction to Barista Skills - LAUNCESTON (24 JUNE 2026)\n24 June 2026\nTatler Lane by Sweetbrew (LAUNCESTON)\n1 day\n03:00 pm - 07:00 pm\n$150.00\nEnrol\n\n\n\n\n\n\nIntroduction to Barista Skills - HOBART - EVENING (24 JUNE 2026)\n24 June 2026\nVillino Roastery (MOONAH)\n1 day\n04:00 pm - 07:30 pm\n$150.00\nEnrol\n\n\n\n\n\n\nIntroduction to Barista Skills - HOBART (14 July 2026)\n14 July 2026\nVillino Roastery (MOONAH)\n1 day\n09:00 am - 02:00 pm\n$150.00\nEnrol\n\n\n\n\n\n\nIntroduction to Barista Skills - HOBART (22 JULY 2026)\n22 July 2026\nVillino Roastery (MOONAH)\n1 day\n09:00 am - 02:00 pm\n$150.00\nEnrol\n\n\n\n\n\n\nIntroduction to Barista Skills - HOBART (28 JULY 2026)\n28 July 2026\nVillino Roastery (MOONAH)\n1 day\n09:00 am - 02:00 pm\n$150.00\nEnrol\n\n\n\n\n\n\nIntroduction to Barista Skills - DEVONPORT (28 JULY 2026)\n28 July 2026\nLeaping Goat Coffee (DEVONPORT)\n1 day\n09:30 am - 02:30 pm\n$150.00\nEnrol\n\n\n\n\n\n\nIntroduction to Barista Skills - LAUNCESTON (19 AUGUST 2026)\n19 August 2026\nTatler Lane by Sweetbrew (LAUNCESTON)\n1 day\n03:00 pm - 07:00 pm\n$150.00\nEnrol\n\n\n\n\n\n\nIntroduction to Barista Skills - HOBART - EVENING (19 AUGUST 2026)\n19 August 2026\nVillino Roastery (MOONAH)\n1 day\n04:00 pm - 07:30 pm\n$150.00\nEnrol\n\n\n\n\n\n\nIntroduction to Barista Skills - HOBART (23 SEPTEMBER 2026)\n23 September 2026\nVillino Roastery (MOONAH)\n1 day\n09:00 am - 02:00 pm\n$150.00\nEnrol\n\n\n\n\n\n\nIntroduction to Barista Skills - DEVONPORT (29 SEPTEMBER 2026)\n29 September 2026\nLeaping Goat Coffee (DEVONPORT)\n1 day\n09:30 am - 02:30 pm\n$150.00\nEnrol\n\n\n\n\n\n\nIntroduction to Barista Skills - HOBART (21 OCTOBER 2026)\n21 October 2026\nVillino Roastery (MOONAH)\n1 day\n09:00 am - 02:00 pm\n$150.00\nEnrol\n\n\n\n\n\n\nIntroduction to Barista Skills - LAUNCESTON (28 OCTOBER 2026)\n28 October 2026\nTatler Lane by Sweetbrew (LAUNCESTON)\n1 day\n03:00 pm - 07:00 pm\n$150.00\nEnrol\n\n\n\n\n\n\nIntroduction to Barista Skills - HOBART - EVENING (18 NOVEMBER 2026)\n18 November 2026\nVillino Roastery (MOONAH)\n1 day\n04:00 pm - 07:30 pm\n$150.00\nEnrol\n\n\n\n\n\n\nIntroduction to Barista Skills - DEVONPORT (24 NOVEMBER 2026)\n24 November 2026\nLeaping Goat Coffee (DEVONPORT)\n1 day\n09:30 am - 02:30 pm\n$150.00\nEnrol\n\n\n\n\n\n\nIntroduction to Barista Skills - LAUNCESTON (25 NOVEMBER 2026)\n25 November 2026\nTatler Lane by Sweetbrew (LAUNCESTON)\n1 day\n03:00 pm - 07:00 pm\n$150.00\nEnrol
URL:https://thtacademy.org.au/event/introduction-to-barista-skills-launceston-24-june-2026/
LOCATION:Tatler Lane by Sweetbrew (LAUNCESTON)\, Tatler Lane by Sweetbrew (LAUNCESTON)\, Australia
CATEGORIES:Short Course
END:VEVENT
BEGIN:VEVENT
DTSTART;TZID=UTC:20260819T150000
DTEND;TZID=UTC:20260819T190000
DTSTAMP:20260420T222142
CREATED:20251219T034707Z
LAST-MODIFIED:20251219T034707Z
UID:10000058-1787151600-1787166000@thtacademy.org.au
SUMMARY:Introduction to Barista Skills - LAUNCESTON (19 AUGUST 2026)
DESCRIPTION:Course Name\nDate\nLocation\nDuration\nTime\nCourse Fee Per Person (incl. GST)\n\n\n\n\n\n\nIntroduction to Barista Skills - HOBART (29 APRIL 2026)\n29 April 2026\nVillino Roastery (MOONAH)\n1 day\n09:00 am - 02:00 pm\n$150.00\nEnrol\n\n\n\n\n\n\nIntroduction to Barista Skills - HOBART (13 MAY 2026)\n13 May 2026\nVillino Roastery (MOONAH)\n1 day\n09:00 am - 02:00 pm\n$150.00\nEnrol\n\n\n\n\n\n\nIntroduction to Barista Skills - DEVONPORT (26 MAY 2026)\n26 May 2026\nLeaping Goat Coffee (DEVONPORT)\n1 day\n09:30 am - 02:30 pm\n$150.00\nEnrol\n\n\n\n\n\n\nIntroduction to Barista Skills - LAUNCESTON (24 JUNE 2026)\n24 June 2026\nTatler Lane by Sweetbrew (LAUNCESTON)\n1 day\n03:00 pm - 07:00 pm\n$150.00\nEnrol\n\n\n\n\n\n\nIntroduction to Barista Skills - HOBART - EVENING (24 JUNE 2026)\n24 June 2026\nVillino Roastery (MOONAH)\n1 day\n04:00 pm - 07:30 pm\n$150.00\nEnrol\n\n\n\n\n\n\nIntroduction to Barista Skills - HOBART (14 July 2026)\n14 July 2026\nVillino Roastery (MOONAH)\n1 day\n09:00 am - 02:00 pm\n$150.00\nEnrol\n\n\n\n\n\n\nIntroduction to Barista Skills - HOBART (22 JULY 2026)\n22 July 2026\nVillino Roastery (MOONAH)\n1 day\n09:00 am - 02:00 pm\n$150.00\nEnrol\n\n\n\n\n\n\nIntroduction to Barista Skills - HOBART (28 JULY 2026)\n28 July 2026\nVillino Roastery (MOONAH)\n1 day\n09:00 am - 02:00 pm\n$150.00\nEnrol\n\n\n\n\n\n\nIntroduction to Barista Skills - DEVONPORT (28 JULY 2026)\n28 July 2026\nLeaping Goat Coffee (DEVONPORT)\n1 day\n09:30 am - 02:30 pm\n$150.00\nEnrol\n\n\n\n\n\n\nIntroduction to Barista Skills - LAUNCESTON (19 AUGUST 2026)\n19 August 2026\nTatler Lane by Sweetbrew (LAUNCESTON)\n1 day\n03:00 pm - 07:00 pm\n$150.00\nEnrol\n\n\n\n\n\n\nIntroduction to Barista Skills - HOBART - EVENING (19 AUGUST 2026)\n19 August 2026\nVillino Roastery (MOONAH)\n1 day\n04:00 pm - 07:30 pm\n$150.00\nEnrol\n\n\n\n\n\n\nIntroduction to Barista Skills - HOBART (23 SEPTEMBER 2026)\n23 September 2026\nVillino Roastery (MOONAH)\n1 day\n09:00 am - 02:00 pm\n$150.00\nEnrol\n\n\n\n\n\n\nIntroduction to Barista Skills - DEVONPORT (29 SEPTEMBER 2026)\n29 September 2026\nLeaping Goat Coffee (DEVONPORT)\n1 day\n09:30 am - 02:30 pm\n$150.00\nEnrol\n\n\n\n\n\n\nIntroduction to Barista Skills - HOBART (21 OCTOBER 2026)\n21 October 2026\nVillino Roastery (MOONAH)\n1 day\n09:00 am - 02:00 pm\n$150.00\nEnrol\n\n\n\n\n\n\nIntroduction to Barista Skills - LAUNCESTON (28 OCTOBER 2026)\n28 October 2026\nTatler Lane by Sweetbrew (LAUNCESTON)\n1 day\n03:00 pm - 07:00 pm\n$150.00\nEnrol\n\n\n\n\n\n\nIntroduction to Barista Skills - HOBART - EVENING (18 NOVEMBER 2026)\n18 November 2026\nVillino Roastery (MOONAH)\n1 day\n04:00 pm - 07:30 pm\n$150.00\nEnrol\n\n\n\n\n\n\nIntroduction to Barista Skills - DEVONPORT (24 NOVEMBER 2026)\n24 November 2026\nLeaping Goat Coffee (DEVONPORT)\n1 day\n09:30 am - 02:30 pm\n$150.00\nEnrol\n\n\n\n\n\n\nIntroduction to Barista Skills - LAUNCESTON (25 NOVEMBER 2026)\n25 November 2026\nTatler Lane by Sweetbrew (LAUNCESTON)\n1 day\n03:00 pm - 07:00 pm\n$150.00\nEnrol
URL:https://thtacademy.org.au/event/introduction-to-barista-skills-launceston-19-august-2026/
LOCATION:Tatler Lane by Sweetbrew (LAUNCESTON)\, Tatler Lane by Sweetbrew (LAUNCESTON)\, Australia
CATEGORIES:Short Course
END:VEVENT
BEGIN:VEVENT
DTSTART;TZID=UTC:20261028T150000
DTEND;TZID=UTC:20261028T190000
DTSTAMP:20260420T222143
CREATED:20251219T034705Z
LAST-MODIFIED:20251219T034705Z
UID:10000057-1793199600-1793214000@thtacademy.org.au
SUMMARY:Introduction to Barista Skills - LAUNCESTON (28 OCTOBER 2026)
DESCRIPTION:Course Name\nDate\nLocation\nDuration\nTime\nCourse Fee Per Person (incl. GST)\n\n\n\n\n\n\nIntroduction to Barista Skills - HOBART (29 APRIL 2026)\n29 April 2026\nVillino Roastery (MOONAH)\n1 day\n09:00 am - 02:00 pm\n$150.00\nEnrol\n\n\n\n\n\n\nIntroduction to Barista Skills - HOBART (13 MAY 2026)\n13 May 2026\nVillino Roastery (MOONAH)\n1 day\n09:00 am - 02:00 pm\n$150.00\nEnrol\n\n\n\n\n\n\nIntroduction to Barista Skills - DEVONPORT (26 MAY 2026)\n26 May 2026\nLeaping Goat Coffee (DEVONPORT)\n1 day\n09:30 am - 02:30 pm\n$150.00\nEnrol\n\n\n\n\n\n\nIntroduction to Barista Skills - LAUNCESTON (24 JUNE 2026)\n24 June 2026\nTatler Lane by Sweetbrew (LAUNCESTON)\n1 day\n03:00 pm - 07:00 pm\n$150.00\nEnrol\n\n\n\n\n\n\nIntroduction to Barista Skills - HOBART - EVENING (24 JUNE 2026)\n24 June 2026\nVillino Roastery (MOONAH)\n1 day\n04:00 pm - 07:30 pm\n$150.00\nEnrol\n\n\n\n\n\n\nIntroduction to Barista Skills - HOBART (14 July 2026)\n14 July 2026\nVillino Roastery (MOONAH)\n1 day\n09:00 am - 02:00 pm\n$150.00\nEnrol\n\n\n\n\n\n\nIntroduction to Barista Skills - HOBART (22 JULY 2026)\n22 July 2026\nVillino Roastery (MOONAH)\n1 day\n09:00 am - 02:00 pm\n$150.00\nEnrol\n\n\n\n\n\n\nIntroduction to Barista Skills - HOBART (28 JULY 2026)\n28 July 2026\nVillino Roastery (MOONAH)\n1 day\n09:00 am - 02:00 pm\n$150.00\nEnrol\n\n\n\n\n\n\nIntroduction to Barista Skills - DEVONPORT (28 JULY 2026)\n28 July 2026\nLeaping Goat Coffee (DEVONPORT)\n1 day\n09:30 am - 02:30 pm\n$150.00\nEnrol\n\n\n\n\n\n\nIntroduction to Barista Skills - LAUNCESTON (19 AUGUST 2026)\n19 August 2026\nTatler Lane by Sweetbrew (LAUNCESTON)\n1 day\n03:00 pm - 07:00 pm\n$150.00\nEnrol\n\n\n\n\n\n\nIntroduction to Barista Skills - HOBART - EVENING (19 AUGUST 2026)\n19 August 2026\nVillino Roastery (MOONAH)\n1 day\n04:00 pm - 07:30 pm\n$150.00\nEnrol\n\n\n\n\n\n\nIntroduction to Barista Skills - HOBART (23 SEPTEMBER 2026)\n23 September 2026\nVillino Roastery (MOONAH)\n1 day\n09:00 am - 02:00 pm\n$150.00\nEnrol\n\n\n\n\n\n\nIntroduction to Barista Skills - DEVONPORT (29 SEPTEMBER 2026)\n29 September 2026\nLeaping Goat Coffee (DEVONPORT)\n1 day\n09:30 am - 02:30 pm\n$150.00\nEnrol\n\n\n\n\n\n\nIntroduction to Barista Skills - HOBART (21 OCTOBER 2026)\n21 October 2026\nVillino Roastery (MOONAH)\n1 day\n09:00 am - 02:00 pm\n$150.00\nEnrol\n\n\n\n\n\n\nIntroduction to Barista Skills - LAUNCESTON (28 OCTOBER 2026)\n28 October 2026\nTatler Lane by Sweetbrew (LAUNCESTON)\n1 day\n03:00 pm - 07:00 pm\n$150.00\nEnrol\n\n\n\n\n\n\nIntroduction to Barista Skills - HOBART - EVENING (18 NOVEMBER 2026)\n18 November 2026\nVillino Roastery (MOONAH)\n1 day\n04:00 pm - 07:30 pm\n$150.00\nEnrol\n\n\n\n\n\n\nIntroduction to Barista Skills - DEVONPORT (24 NOVEMBER 2026)\n24 November 2026\nLeaping Goat Coffee (DEVONPORT)\n1 day\n09:30 am - 02:30 pm\n$150.00\nEnrol\n\n\n\n\n\n\nIntroduction to Barista Skills - LAUNCESTON (25 NOVEMBER 2026)\n25 November 2026\nTatler Lane by Sweetbrew (LAUNCESTON)\n1 day\n03:00 pm - 07:00 pm\n$150.00\nEnrol
URL:https://thtacademy.org.au/event/introduction-to-barista-skills-launceston-28-october-2026/
LOCATION:Tatler Lane by Sweetbrew (LAUNCESTON)\, Tatler Lane by Sweetbrew (LAUNCESTON)\, Australia
CATEGORIES:Short Course
END:VEVENT
BEGIN:VEVENT
DTSTART;TZID=UTC:20261125T150000
DTEND;TZID=UTC:20261125T190000
DTSTAMP:20260420T222144
CREATED:20251219T034704Z
LAST-MODIFIED:20251219T034704Z
UID:10000056-1795618800-1795633200@thtacademy.org.au
SUMMARY:Introduction to Barista Skills - LAUNCESTON (25 NOVEMBER 2026)
DESCRIPTION:Course Name\nDate\nLocation\nDuration\nTime\nCourse Fee Per Person (incl. GST)\n\n\n\n\n\n\nIntroduction to Barista Skills - HOBART (29 APRIL 2026)\n29 April 2026\nVillino Roastery (MOONAH)\n1 day\n09:00 am - 02:00 pm\n$150.00\nEnrol\n\n\n\n\n\n\nIntroduction to Barista Skills - HOBART (13 MAY 2026)\n13 May 2026\nVillino Roastery (MOONAH)\n1 day\n09:00 am - 02:00 pm\n$150.00\nEnrol\n\n\n\n\n\n\nIntroduction to Barista Skills - DEVONPORT (26 MAY 2026)\n26 May 2026\nLeaping Goat Coffee (DEVONPORT)\n1 day\n09:30 am - 02:30 pm\n$150.00\nEnrol\n\n\n\n\n\n\nIntroduction to Barista Skills - LAUNCESTON (24 JUNE 2026)\n24 June 2026\nTatler Lane by Sweetbrew (LAUNCESTON)\n1 day\n03:00 pm - 07:00 pm\n$150.00\nEnrol\n\n\n\n\n\n\nIntroduction to Barista Skills - HOBART - EVENING (24 JUNE 2026)\n24 June 2026\nVillino Roastery (MOONAH)\n1 day\n04:00 pm - 07:30 pm\n$150.00\nEnrol\n\n\n\n\n\n\nIntroduction to Barista Skills - HOBART (14 July 2026)\n14 July 2026\nVillino Roastery (MOONAH)\n1 day\n09:00 am - 02:00 pm\n$150.00\nEnrol\n\n\n\n\n\n\nIntroduction to Barista Skills - HOBART (22 JULY 2026)\n22 July 2026\nVillino Roastery (MOONAH)\n1 day\n09:00 am - 02:00 pm\n$150.00\nEnrol\n\n\n\n\n\n\nIntroduction to Barista Skills - HOBART (28 JULY 2026)\n28 July 2026\nVillino Roastery (MOONAH)\n1 day\n09:00 am - 02:00 pm\n$150.00\nEnrol\n\n\n\n\n\n\nIntroduction to Barista Skills - DEVONPORT (28 JULY 2026)\n28 July 2026\nLeaping Goat Coffee (DEVONPORT)\n1 day\n09:30 am - 02:30 pm\n$150.00\nEnrol\n\n\n\n\n\n\nIntroduction to Barista Skills - LAUNCESTON (19 AUGUST 2026)\n19 August 2026\nTatler Lane by Sweetbrew (LAUNCESTON)\n1 day\n03:00 pm - 07:00 pm\n$150.00\nEnrol\n\n\n\n\n\n\nIntroduction to Barista Skills - HOBART - EVENING (19 AUGUST 2026)\n19 August 2026\nVillino Roastery (MOONAH)\n1 day\n04:00 pm - 07:30 pm\n$150.00\nEnrol\n\n\n\n\n\n\nIntroduction to Barista Skills - HOBART (23 SEPTEMBER 2026)\n23 September 2026\nVillino Roastery (MOONAH)\n1 day\n09:00 am - 02:00 pm\n$150.00\nEnrol\n\n\n\n\n\n\nIntroduction to Barista Skills - DEVONPORT (29 SEPTEMBER 2026)\n29 September 2026\nLeaping Goat Coffee (DEVONPORT)\n1 day\n09:30 am - 02:30 pm\n$150.00\nEnrol\n\n\n\n\n\n\nIntroduction to Barista Skills - HOBART (21 OCTOBER 2026)\n21 October 2026\nVillino Roastery (MOONAH)\n1 day\n09:00 am - 02:00 pm\n$150.00\nEnrol\n\n\n\n\n\n\nIntroduction to Barista Skills - LAUNCESTON (28 OCTOBER 2026)\n28 October 2026\nTatler Lane by Sweetbrew (LAUNCESTON)\n1 day\n03:00 pm - 07:00 pm\n$150.00\nEnrol\n\n\n\n\n\n\nIntroduction to Barista Skills - HOBART - EVENING (18 NOVEMBER 2026)\n18 November 2026\nVillino Roastery (MOONAH)\n1 day\n04:00 pm - 07:30 pm\n$150.00\nEnrol\n\n\n\n\n\n\nIntroduction to Barista Skills - DEVONPORT (24 NOVEMBER 2026)\n24 November 2026\nLeaping Goat Coffee (DEVONPORT)\n1 day\n09:30 am - 02:30 pm\n$150.00\nEnrol\n\n\n\n\n\n\nIntroduction to Barista Skills - LAUNCESTON (25 NOVEMBER 2026)\n25 November 2026\nTatler Lane by Sweetbrew (LAUNCESTON)\n1 day\n03:00 pm - 07:00 pm\n$150.00\nEnrol
URL:https://thtacademy.org.au/event/introduction-to-barista-skills-launceston-25-november-2026/
LOCATION:Tatler Lane by Sweetbrew (LAUNCESTON)\, Tatler Lane by Sweetbrew (LAUNCESTON)\, Australia
CATEGORIES:Short Course
END:VEVENT
END:VCALENDAR