BEGIN:VCALENDAR
VERSION:2.0
PRODID:-//Tasmanian Hospitality and Tourism Academy - ECPv6.15.16//NONSGML v1.0//EN
CALSCALE:GREGORIAN
METHOD:PUBLISH
X-ORIGINAL-URL:https://thtacademy.org.au
X-WR-CALDESC:Events for Tasmanian Hospitality and Tourism Academy
REFRESH-INTERVAL;VALUE=DURATION:PT1H
X-Robots-Tag:noindex
X-PUBLISHED-TTL:PT1H
BEGIN:VTIMEZONE
TZID:UTC
BEGIN:STANDARD
TZOFFSETFROM:+0000
TZOFFSETTO:+0000
TZNAME:UTC
DTSTART:20250101T000000
END:STANDARD
END:VTIMEZONE
BEGIN:VEVENT
DTSTART;TZID=UTC:20260519T093000
DTEND;TZID=UTC:20260519T160000
DTSTAMP:20260421T001558
CREATED:20260211T004659Z
LAST-MODIFIED:20260211T004659Z
UID:10000195-1779183000-1779206400@thtacademy.org.au
SUMMARY:Introduction to Food and Beverage Service - HOBART - 19 MAY 2026
DESCRIPTION:Course Name\nDate\nLocation\nDuration\nTime\nCourse Fee Per Person (incl. GST)\n\n\n\n\n\n\nIntroduction to Food and Beverage Service - HOBART - 19 MAY 2026\n19 May 2026\nRude Boy (HOBART)\n1 day\n09:30 am - 04:00 pm\n$150.00\nEnrol
URL:https://thtacademy.org.au/event/introduction-to-food-and-beverage-service-hobart-19-may-2026/
LOCATION:Rude Boy (HOBART)\, Rude Boy (HOBART)\, Australia
CATEGORIES:Short Course
END:VEVENT
BEGIN:VEVENT
DTSTART;TZID=UTC:20260526T093000
DTEND;TZID=UTC:20260526T160000
DTSTAMP:20260421T001559
CREATED:20260211T004659Z
LAST-MODIFIED:20260211T004659Z
UID:10000194-1779787800-1779811200@thtacademy.org.au
SUMMARY:Bar Ops 101: Level Up Your Skills - HOBART - 26 MAY 2026
DESCRIPTION:Course Name\nDate\nLocation\nDuration\nTime\nCourse Fee Per Person (incl. GST)\n\n\n\n\n\n\nBar Ops 101: Level Up Your Skills - HOBART - 26 MAY 2026\n26 May 2026\nRude Boy (HOBART)\n1 day\n09:30 am - 04:00 pm\n$150.00\nEnrol
URL:https://thtacademy.org.au/event/bar-ops-101-level-up-your-skills-hobart-26-may-2026/
LOCATION:Rude Boy (HOBART)\, Rude Boy (HOBART)\, Australia
CATEGORIES:Short Course
END:VEVENT
END:VCALENDAR