BEGIN:VCALENDAR
VERSION:2.0
PRODID:-//Tasmanian Hospitality and Tourism Academy - ECPv6.15.16//NONSGML v1.0//EN
CALSCALE:GREGORIAN
METHOD:PUBLISH
X-ORIGINAL-URL:https://thtacademy.org.au
X-WR-CALDESC:Events for Tasmanian Hospitality and Tourism Academy
REFRESH-INTERVAL;VALUE=DURATION:PT1H
X-Robots-Tag:noindex
X-PUBLISHED-TTL:PT1H
BEGIN:VTIMEZONE
TZID:UTC
BEGIN:STANDARD
TZOFFSETFROM:+0000
TZOFFSETTO:+0000
TZNAME:UTC
DTSTART:20250101T000000
END:STANDARD
END:VTIMEZONE
BEGIN:VEVENT
DTSTART;TZID=UTC:20260401T000000
DTEND;TZID=UTC:20260428T003000
DTSTAMP:20260420T184658
CREATED:20260210T042216Z
LAST-MODIFIED:20260210T044203Z
UID:10000185-1775001600-1777336200@thtacademy.org.au
SUMMARY:GOVLAW Anti-Money Laundering and Counter-Terrorism Finance Training (ONLINE) - Enrol anytime!
DESCRIPTION:THTA has partnered with GOVLAW to offer Anti-Money Laundering and Counter-Terrorism Finance Training for $75.00. \nDoes your Pub\, Club or casino have gaming machines (‘pokies’)? \nUnder federal AML/CTF law all gaming staff and management must complete anti-money laundering training at appropriate intervals. Failure to comply is a breach of the Anti-Money Laundering and Counter-Terrorism Financing Act 2006 (Cth) (AML/CTF Act) and civil penalties (fines by AUSTRAC) may apply. \nGOVLAW AML/CTF training for gaming venues is available online and on-demand and includes: \n\nThe latest AUSTRAC suspicious matter indicators\nWhat steps are required for any high-risk customers\nThe key changes under the AML/CTF reforms\, from 2026\n\nGOVLAW AML/CTF training includes a randomised question bank\, access to login for up to 12 months and a certificate for download. The course is presented by a lawyer with over 10 years prior employment experience at the regulator\, AUSTRAC. \nThis AML/CTF training can be used for induction and/or refresher training for gaming staff and management. \nParticipants can enrol at any time\, via the GovLaw website. \n  \nENROL NOW
URL:https://thtacademy.org.au/event/govlaw-anti-money-laundering-and-counter-terrorism-finance-training-online-enrol-anytime/2026-04-01/
LOCATION:Online\, Online\, TAS\, 7250\, Australia
CATEGORIES:Online,Short Course
ORGANIZER;CN="THT Academy":MAILTO:info@thtacademy.org.au
END:VEVENT
BEGIN:VEVENT
DTSTART;TZID=UTC:20260401T000000
DTEND;TZID=UTC:20260428T032900
DTSTAMP:20260420T184658
CREATED:20260202T034158Z
LAST-MODIFIED:20260202T042503Z
UID:10000138-1775001600-1777346940@thtacademy.org.au
SUMMARY:RSA - Online (ENROL ANYTIME!)
DESCRIPTION:THTA has partnered with the Queensland Hotels Association (RTO 30826) to provide nationally recognised online or face to face accredited training programs for SITHFAB021 Provide Responsible Service of Alcohol (RSA). The training program is suitable for those who are involved in the sale and supply/service of alcohol according to relevant Tasmanian regulations. The training focuses on the performance outcomes\, skills\, and knowledge necessary for the responsible sale\, service\, or supply of alcohol. \nFor enrolment or assessment assistance\, please call QHA on (07) 3221 6999\nFor payment queries\, please contact THTA on info@thtacademy.org.au \nENROL NOW \n*Please note: when you enrol\, you will be re-directed to the Queensland Hotels Association’s enrolment page*
URL:https://thtacademy.org.au/event/rsa-online-4/2026-04-01/
LOCATION:Online\, Online\, TAS\, 7250\, Australia
CATEGORIES:Online,Short Course
ORGANIZER;CN="THT Academy":MAILTO:info@thtacademy.org.au
END:VEVENT
BEGIN:VEVENT
DTSTART;TZID=UTC:20260406T080000
DTEND;TZID=UTC:20260502T083000
DTSTAMP:20260420T184658
CREATED:20260202T042137Z
LAST-MODIFIED:20260202T042652Z
UID:10000149-1775462400-1777710600@thtacademy.org.au
SUMMARY:Food Safety Supervisor - Online (ENROL ANYTIME!)
DESCRIPTION:THTA has partnered with the Queensland Hotels Association (RTO 30826) to provide a nationally recognised online training program for Food Safety Supervisors (SITXFSA005 and SITXFSA006).\n\n\n\n\n\n\nIn Tasmania\, all licensed food businesses must have an accessible Food Safety Supervisor (FSS). The Food Safety Supervisor qualification must have been attained within the last five years\, as there was previously no expiry date on the certificates. The best practice is a business should nominate a Primary and a Secondary Food Safety Supervisor for each site/premises. \nThe training for Food Safety Supervisors encompasses the following units: \n\nSITXFSA005 – Use hygienic practices for food safety &\nSITXFSA006 – Participate in safe food handling practices\n\nFor enrolment\, assessment or payment assistance\, please call QHA on (07) 3221 6999 \nENROL NOW \n*Please note: when you enrol\, you will be re-directed to the Queensland Hotels Association’s enrolment page*
URL:https://thtacademy.org.au/event/food-safety-supervisor-online-enrol-anytime/2026-04-06/
LOCATION:Online\, Online\, TAS\, 7250\, Australia
CATEGORIES:Online,Short Course
ORGANIZER;CN="THT Academy":MAILTO:info@thtacademy.org.au
END:VEVENT
BEGIN:VEVENT
DTSTART;TZID=UTC:20260422T153000
DTEND;TZID=UTC:20260422T213000
DTSTAMP:20260420T184658
CREATED:20260206T013958Z
LAST-MODIFIED:20260206T014107Z
UID:10000177-1776871800-1776893400@thtacademy.org.au
SUMMARY:Provide Responsible Service of Alcohol (RSA) - Face to face (LAUNCESTON)
DESCRIPTION:THTA has partnered with the Queensland Hotels Association (RTO 30826) to provide a nationally recognised face to face training program for SITHFAB021 Provide Responsible Service of Alcohol (RSA). The training program is offered face to face for those who are involved in the sale and supply/service of alcohol according to relevant Tasmanian regulations. The training focuses on the performance outcomes\, skills\, and knowledge necessary for the responsible sale\, service\, or supply of alcohol. \nFor assessment and enrolment assistance\, please call QHA on (07) 3221 6999\nFor payment queries\, please contact THTA on info@thtacademy.org.au \n\n\nENROL NOW\n\n\n\n\n\n\n*Please note: when you enrol\, you will be re-directed to the Queensland Hotels Association’s enrolment page*
URL:https://thtacademy.org.au/event/provide-responsible-service-of-alcohol-rsa-face-to-face-launceston-2/
LOCATION:Launceston
CATEGORIES:Short Course
ORGANIZER;CN="THT Academy":MAILTO:info@thtacademy.org.au
END:VEVENT
BEGIN:VEVENT
DTSTART;TZID=UTC:20260423T153000
DTEND;TZID=UTC:20260423T213000
DTSTAMP:20260420T184658
CREATED:20260203T031520Z
LAST-MODIFIED:20260203T031520Z
UID:10000170-1776958200-1776979800@thtacademy.org.au
SUMMARY:Provide Responsible Service of Alcohol (RSA) - Face to face (HOBART)
DESCRIPTION:THTA has partnered with the Queensland Hotels Association (RTO 30826) to provide a nationally recognised face to face training program for SITHFAB021 Provide Responsible Service of Alcohol (RSA). The training program is offered face to face for those who are involved in the sale and supply/service of alcohol according to relevant Tasmanian regulations. The training focuses on the performance outcomes\, skills\, and knowledge necessary for the responsible sale\, service\, or supply of alcohol. \nFor assessment and enrolment assistance\, please call QHA on (07) 3221 6999\nFor payment queries\, please contact THTA on info@thtacademy.org.au \n\n\nENROL NOW\n\n\n\n\n\n\n*Please note: when you enrol\, you will be re-directed to the Queensland Hotels Association’s enrolment page*
URL:https://thtacademy.org.au/event/provide-responsible-service-of-alcohol-rsa-face-to-face-hobart/2026-04-23/
LOCATION:Tasmanian Hospitality & Tourism Academy (BATTERY POINT)\, Tasmanian Hospitality & Tourism Academy (BATTERY POINT)\, Australia
CATEGORIES:Short Course
ORGANIZER;CN="THT Academy":MAILTO:info@thtacademy.org.au
END:VEVENT
BEGIN:VEVENT
DTSTART;TZID=UTC:20260429T090000
DTEND;TZID=UTC:20260429T140000
DTSTAMP:20260420T184658
CREATED:20251209T010031Z
LAST-MODIFIED:20260203T044700Z
UID:10000028-1777453200-1777471200@thtacademy.org.au
SUMMARY:Introduction to Barista Skills - HOBART (29 APRIL 2026)
DESCRIPTION:There are no dates currently available for this course\, please contact info@thtacademy.org.au for further information.
URL:https://thtacademy.org.au/event/introduction-to-barista-skills-hobart-29-april-2026/
LOCATION:Villino Roastery (MOONAH)\, Villino Roastery (MOONAH)\, Australia
CATEGORIES:Short Course
END:VEVENT
BEGIN:VEVENT
DTSTART;TZID=UTC:20260429T150000
DTEND;TZID=UTC:20260429T190000
DTSTAMP:20260420T184658
CREATED:20251219T014814Z
LAST-MODIFIED:20260202T034630Z
UID:10000054-1777474800-1777489200@thtacademy.org.au
SUMMARY:Introduction to Barista Skills - LAUNCESTON (29 APRIL 2026) - Study Tasmania students only
DESCRIPTION:There are no dates currently available for this course\, please contact info@thtacademy.org.au for further information.
URL:https://thtacademy.org.au/event/introduction-to-barista-skills-launceston-29-april-2026-study-tasmania-students-only/
LOCATION:Introduction to Barista Skills (Study Tasmania) – Tatler Lane by Sweetbrew (LAUNCESTON)\, Introduction to Barista Skills (Study Tasmania) - Tatler Lane by Sweetbrew (LAUNCESTON)\, Australia
CATEGORIES:Short Course
END:VEVENT
END:VCALENDAR