BEGIN:VCALENDAR
VERSION:2.0
PRODID:-//Tasmanian Hospitality and Tourism Academy - ECPv6.15.16//NONSGML v1.0//EN
CALSCALE:GREGORIAN
METHOD:PUBLISH
X-ORIGINAL-URL:https://thtacademy.org.au
X-WR-CALDESC:Events for Tasmanian Hospitality and Tourism Academy
REFRESH-INTERVAL;VALUE=DURATION:PT1H
X-Robots-Tag:noindex
X-PUBLISHED-TTL:PT1H
BEGIN:VTIMEZONE
TZID:UTC
BEGIN:STANDARD
TZOFFSETFROM:+0000
TZOFFSETTO:+0000
TZNAME:UTC
DTSTART:20250101T000000
END:STANDARD
END:VTIMEZONE
BEGIN:VEVENT
DTSTART;VALUE=DATE:20260326
DTEND;VALUE=DATE:20260327
DTSTAMP:20260421T052249
CREATED:20260319T045806Z
LAST-MODIFIED:20260319T045806Z
UID:10000210-1774483200-1774569599@thtacademy.org.au
SUMMARY:My Leadership Ground (Module 1)
DESCRIPTION:Upcoming Programs\nThere are no dates currently available for this course\, please contact info@thtacademy.org.au for further information. \n  \nEnquire Now
URL:https://thtacademy.org.au/event/my-leadership-ground-module-1-2/
LOCATION:Tasmanian Hospitality & Tourism Academy (BATTERY POINT)\, Shop 2/19-21/Castray Esplanade\, BATTERY POINT\, TAS\, 7004\, Australia
CATEGORIES:Program
END:VEVENT
END:VCALENDAR